BEGIN:VCALENDAR
VERSION:2.0
PRODID:-//VFR Motor Services Ltd - ECPv6.15.17//NONSGML v1.0//EN
CALSCALE:GREGORIAN
METHOD:PUBLISH
X-WR-CALNAME:VFR Motor Services Ltd
X-ORIGINAL-URL:https://vfrmotorsltd.co.uk
X-WR-CALDESC:Events for VFR Motor Services Ltd
REFRESH-INTERVAL;VALUE=DURATION:PT1H
X-Robots-Tag:noindex
X-PUBLISHED-TTL:PT1H
BEGIN:VTIMEZONE
TZID:Europe/London
BEGIN:DAYLIGHT
TZOFFSETFROM:+0000
TZOFFSETTO:+0100
TZNAME:BST
DTSTART:20190331T010000
END:DAYLIGHT
BEGIN:STANDARD
TZOFFSETFROM:+0100
TZOFFSETTO:+0000
TZNAME:GMT
DTSTART:20191027T010000
END:STANDARD
BEGIN:DAYLIGHT
TZOFFSETFROM:+0000
TZOFFSETTO:+0100
TZNAME:BST
DTSTART:20200329T010000
END:DAYLIGHT
BEGIN:STANDARD
TZOFFSETFROM:+0100
TZOFFSETTO:+0000
TZNAME:GMT
DTSTART:20201025T010000
END:STANDARD
BEGIN:DAYLIGHT
TZOFFSETFROM:+0000
TZOFFSETTO:+0100
TZNAME:BST
DTSTART:20210328T010000
END:DAYLIGHT
BEGIN:STANDARD
TZOFFSETFROM:+0100
TZOFFSETTO:+0000
TZNAME:GMT
DTSTART:20211031T010000
END:STANDARD
END:VTIMEZONE
BEGIN:VEVENT
DTSTART;VALUE=DATE:20200327
DTEND;VALUE=DATE:20200330
DTSTAMP:20260418T111331
CREATED:20200311T160909Z
LAST-MODIFIED:20200323T142628Z
UID:2086-1585267200-1585526399@vfrmotorsltd.co.uk
SUMMARY:CANCELLED: Practical Classics Classic Car and Restoration Show
DESCRIPTION:Sadly this event has been cancelled due to COVID-19. \nAbout the Classic Car and Restoration Show\nThe Practical Classics Classic Car and Restoration Show is a huge event in the motoring calendar. The event takes place 27-29 March 2020 at Birmingham NEC. \nThis year the show boasts: \n\nOver 1\,000 classic cars on display.\nRepresentation from a host of clubs.\nExhibitors\, car dealers and an autojumble.\n\nSporting Bears Dream Rides\nAs well as all this\, you can grab the opportunity for a dream ride in a classic car and raise money for charity with the Sporting Bears Dream Rides. This year\, our own Justin Dyke will be taking people out in his Mitsubishi GTO. If you fancy an Adrenalin-fuelled experience in a shiny souped up sports car\, seek him out! \nBook Tickets\nYou can book your tickets for the Practical Classics Classic Car and Restoration Show here.
URL:https://vfrmotorsltd.co.uk/event/classic-car-and-restoration-show-2020/
LOCATION:NEC Birmingham\, National Exhibition Centre Birmingham\, Birmingham\, West Midlands\, B40 1NT\, United Kingdom
CATEGORIES:Classic Cars
ATTACH;FMTTYPE=image/jpeg:https://vfrmotorsltd.co.uk/wp-content/uploads/2020/03/mitsubishi-gto-classic-car-03-scaled.jpeg
ORGANIZER;CN="Sporting Bears Dream Rides":MAILTO:midlandsbears@sportingbears.co.uk
END:VEVENT
END:VCALENDAR